Package: motifTestR Version: 1.0.3 Command: rm -rf motifTestR.buildbin-libdir && mkdir motifTestR.buildbin-libdir && E:\biocbuild\bbs-3.19-bioc\R\bin\R.exe CMD INSTALL --build --library=motifTestR.buildbin-libdir motifTestR_1.0.3.tar.gz StartedAt: 2024-10-17 08:11:12 -0400 (Thu, 17 Oct 2024) EndedAt: 2024-10-17 08:11:33 -0400 (Thu, 17 Oct 2024) EllapsedTime: 20.9 seconds RetCode: 0 Status: OK PackageFile: motifTestR_1.0.3.zip PackageFileSize: 624.7 KiB