Package: motifTestR Version: 1.0.3 Command: F:\biocbuild\bbs-3.19-bioc\R\bin\R.exe CMD INSTALL motifTestR StartedAt: 2024-06-26 15:53:26 -0400 (Wed, 26 Jun 2024) EndedAt: 2024-06-26 15:53:47 -0400 (Wed, 26 Jun 2024) EllapsedTime: 21.3 seconds RetCode: 0 Status: OK