Package: motifTestR Version: 1.0.3 Command: chmod a+r motifTestR -R && F:\biocbuild\bbs-3.19-bioc\R\bin\R.exe CMD build --keep-empty-dirs --no-resave-data motifTestR StartedAt: 2024-06-26 20:15:26 -0400 (Wed, 26 Jun 2024) EndedAt: 2024-06-26 20:16:38 -0400 (Wed, 26 Jun 2024) EllapsedTime: 71.8 seconds RetCode: 0 Status: OK PackageFile: motifTestR_1.0.3.tar.gz PackageFileSize: 565.3 KiB