Package: motifTestR Version: 1.0.3 Command: rm -rf motifTestR.buildbin-libdir && mkdir motifTestR.buildbin-libdir && F:\biocbuild\bbs-3.19-bioc\R\bin\R.exe CMD INSTALL --build --library=motifTestR.buildbin-libdir motifTestR_1.0.3.tar.gz StartedAt: 2024-06-27 08:32:37 -0400 (Thu, 27 Jun 2024) EndedAt: 2024-06-27 08:32:59 -0400 (Thu, 27 Jun 2024) EllapsedTime: 22.4 seconds RetCode: 0 Status: OK PackageFile: motifTestR_1.0.3.zip PackageFileSize: 624.7 KiB