Package: motifTestR Version: 1.0.3 Command: /Library/Frameworks/R.framework/Resources/bin/R CMD check --install=check:motifTestR.install-out.txt --library=/Library/Frameworks/R.framework/Resources/library --no-vignettes --timings motifTestR_1.0.3.tar.gz StartedAt: 2024-06-09 21:40:52 -0400 (Sun, 09 Jun 2024) EndedAt: 2024-06-09 21:43:40 -0400 (Sun, 09 Jun 2024) EllapsedTime: 167.9 seconds RetCode: 0 Status: OK CheckDir: motifTestR.Rcheck Warnings: 0