Package: motifTestR Version: 1.0.3 Command: /Library/Frameworks/R.framework/Resources/bin/R CMD build --keep-empty-dirs --no-resave-data motifTestR StartedAt: 2024-06-09 17:22:45 -0400 (Sun, 09 Jun 2024) EndedAt: 2024-06-09 17:24:29 -0400 (Sun, 09 Jun 2024) EllapsedTime: 103.9 seconds RetCode: 0 Status: OK PackageFile: motifTestR_1.0.3.tar.gz PackageFileSize: 826.2 KiB