Package: motifTestR Version: 1.0.0 Command: /home/biocbuild/R/R-beta-2024-04-15_r86425/bin/R CMD build --keep-empty-dirs --no-resave-data motifTestR StartedAt: 2024-05-09 01:53:18 -0000 (Thu, 09 May 2024) EndedAt: 2024-05-09 01:54:35 -0000 (Thu, 09 May 2024) EllapsedTime: 77.1 seconds RetCode: 0 Status: OK PackageFile: motifTestR_1.0.0.tar.gz PackageFileSize: 618.7 KiB