Package: motifTestR Version: 1.0.3 Command: /Library/Frameworks/R.framework/Resources/bin/R CMD build --keep-empty-dirs --no-resave-data motifTestR StartedAt: 2024-10-17 05:04:02 -0400 (Thu, 17 Oct 2024) EndedAt: 2024-10-17 05:05:11 -0400 (Thu, 17 Oct 2024) EllapsedTime: 69.3 seconds RetCode: 0 Status: OK PackageFile: motifTestR_1.0.3.tar.gz PackageFileSize: 825.9 KiB