Package: motifTestR Version: 1.0.3 Command: rm -rf motifTestR.buildbin-libdir && mkdir motifTestR.buildbin-libdir && /Users/biocbuild/BBS/utils/build-universal.sh motifTestR_1.0.3.tar.gz /Library/Frameworks/R.framework/Resources/bin/R motifTestR.buildbin-libdir StartedAt: 2024-10-18 19:34:23 -0400 (Fri, 18 Oct 2024) EndedAt: 2024-10-18 19:34:44 -0400 (Fri, 18 Oct 2024) EllapsedTime: 21.2 seconds RetCode: 0 Status: OK PackageFile: motifTestR_1.0.3.tgz PackageFileSize: 878.3 KiB