Package: motifTestR Version: 1.0.3 Maintainer: Stevie Pederson MaintainerEmail: stephen.pederson.au at gmail.com git_url: https://git.bioconductor.org/packages/motifTestR git_branch: RELEASE_3_19 git_last_commit: 286056e git_last_commit_date: 2024-06-02 22:59:10 -0400 (Sun, 02 Jun 2024)