Package: motifStack Version: 1.48.0 Command: E:\biocbuild\bbs-3.19-bioc\R\bin\R.exe CMD INSTALL motifStack StartedAt: 2024-10-16 16:38:58 -0400 (Wed, 16 Oct 2024) EndedAt: 2024-10-16 16:40:25 -0400 (Wed, 16 Oct 2024) EllapsedTime: 86.6 seconds RetCode: 0 Status: OK