Package: motifStack Version: 1.48.0 Command: /home/biocbuild/bbs-3.19-bioc/R/bin/R CMD INSTALL motifStack StartedAt: 2024-10-16 16:17:34 -0400 (Wed, 16 Oct 2024) EndedAt: 2024-10-16 16:18:21 -0400 (Wed, 16 Oct 2024) EllapsedTime: 47.1 seconds RetCode: 0 Status: OK