Package: motifStack Version: 1.48.0 Command: /home/biocbuild/bbs-3.19-bioc/R/bin/R CMD check --install=check:motifStack.install-out.txt --library=/home/biocbuild/bbs-3.19-bioc/R/site-library --timings motifStack_1.48.0.tar.gz StartedAt: 2024-10-17 02:43:17 -0400 (Thu, 17 Oct 2024) EndedAt: 2024-10-17 02:50:14 -0400 (Thu, 17 Oct 2024) EllapsedTime: 416.9 seconds RetCode: 0 Status: OK CheckDir: motifStack.Rcheck Warnings: 0