Package: mosdef Version: 1.0.0 Command: E:\biocbuild\bbs-3.19-bioc\R\bin\R.exe CMD INSTALL mosdef StartedAt: 2024-10-16 16:59:28 -0400 (Wed, 16 Oct 2024) EndedAt: 2024-10-16 17:00:28 -0400 (Wed, 16 Oct 2024) EllapsedTime: 60.4 seconds RetCode: 0 Status: OK