Package: mosdef Version: 1.0.0 Command: chmod a+r mosdef -R && E:\biocbuild\bbs-3.19-bioc\R\bin\R.exe CMD build --keep-empty-dirs --no-resave-data mosdef StartedAt: 2024-10-16 20:27:21 -0400 (Wed, 16 Oct 2024) EndedAt: 2024-10-16 20:43:15 -0400 (Wed, 16 Oct 2024) EllapsedTime: 954.7 seconds RetCode: 0 Status: OK PackageFile: mosdef_1.0.0.tar.gz PackageFileSize: 3.514 MiB