Package: mosdef Version: 1.0.0 Command: rm -rf mosdef.buildbin-libdir && mkdir mosdef.buildbin-libdir && E:\biocbuild\bbs-3.19-bioc\R\bin\R.exe CMD INSTALL --build --library=mosdef.buildbin-libdir mosdef_1.0.0.tar.gz StartedAt: 2024-10-17 08:10:41 -0400 (Thu, 17 Oct 2024) EndedAt: 2024-10-17 08:11:54 -0400 (Thu, 17 Oct 2024) EllapsedTime: 73.1 seconds RetCode: 0 Status: OK PackageFile: mosdef_1.0.0.zip PackageFileSize: 3.608 MiB