Package: mosdef Version: 1.0.0 Command: chmod a+r mosdef -R && F:\biocbuild\bbs-3.19-bioc\R\bin\R.exe CMD build --keep-empty-dirs --no-resave-data mosdef StartedAt: 2024-06-26 20:13:37 -0400 (Wed, 26 Jun 2024) EndedAt: 2024-06-26 20:34:57 -0400 (Wed, 26 Jun 2024) EllapsedTime: 1279.2 seconds RetCode: 0 Status: OK PackageFile: mosdef_1.0.0.tar.gz PackageFileSize: 3.514 MiB