Package: mosdef Version: 1.0.0 Command: /Library/Frameworks/R.framework/Resources/bin/R CMD INSTALL mosdef StartedAt: 2024-10-16 16:19:43 -0400 (Wed, 16 Oct 2024) EndedAt: 2024-10-16 16:21:29 -0400 (Wed, 16 Oct 2024) EllapsedTime: 105.7 seconds RetCode: 0 Status: OK