Package: mosdef Version: 1.0.0 Command: /Library/Frameworks/R.framework/Resources/bin/R CMD build --keep-empty-dirs --no-resave-data mosdef StartedAt: 2024-10-16 21:10:34 -0400 (Wed, 16 Oct 2024) EndedAt: 2024-10-16 21:27:10 -0400 (Wed, 16 Oct 2024) EllapsedTime: 995.9 seconds RetCode: 0 Status: OK PackageFile: mosdef_1.0.0.tar.gz PackageFileSize: 4.538 MiB