Package: mosdef Version: 1.0.0 Command: /Library/Frameworks/R.framework/Resources/bin/R CMD check --install=check:mosdef.install-out.txt --library=/Library/Frameworks/R.framework/Resources/library --no-vignettes --timings mosdef_1.0.0.tar.gz StartedAt: 2024-10-18 04:44:00 -0400 (Fri, 18 Oct 2024) EndedAt: 2024-10-18 04:57:07 -0400 (Fri, 18 Oct 2024) EllapsedTime: 787.0 seconds RetCode: 0 Status: OK CheckDir: mosdef.Rcheck Warnings: 0