Package: mosbi Version: 1.10.0 Command: chmod a+r mosbi -R && F:\biocbuild\bbs-3.19-bioc\R\bin\R.exe CMD build --keep-empty-dirs --no-resave-data mosbi StartedAt: 2024-06-26 20:13:19 -0400 (Wed, 26 Jun 2024) EndedAt: 2024-06-26 20:17:12 -0400 (Wed, 26 Jun 2024) EllapsedTime: 233.4 seconds RetCode: 0 Status: OK PackageFile: mosbi_1.10.0.tar.gz PackageFileSize: 1.097 MiB