Package: mosbi Version: 1.10.0 Command: rm -rf mosbi.buildbin-libdir && mkdir mosbi.buildbin-libdir && F:\biocbuild\bbs-3.19-bioc\R\bin\R.exe CMD INSTALL --build --library=mosbi.buildbin-libdir mosbi_1.10.0.tar.gz StartedAt: 2024-06-27 08:32:17 -0400 (Thu, 27 Jun 2024) EndedAt: 2024-06-27 08:35:04 -0400 (Thu, 27 Jun 2024) EllapsedTime: 166.3 seconds RetCode: 0 Status: OK PackageFile: mosbi_1.10.0.zip PackageFileSize: 1.86 MiB