Package: mosbi Version: 1.10.0 Command: rm -rf mosbi.buildbin-libdir && mkdir mosbi.buildbin-libdir && /Users/biocbuild/BBS/utils/build-universal.sh mosbi_1.10.0.tar.gz /Library/Frameworks/R.framework/Resources/bin/R mosbi.buildbin-libdir StartedAt: 2024-06-11 12:08:29 -0400 (Tue, 11 Jun 2024) EndedAt: 2024-06-11 12:10:49 -0400 (Tue, 11 Jun 2024) EllapsedTime: 139.5 seconds RetCode: 0 Status: OK PackageFile: mosbi_1.10.0.tgz PackageFileSize: 2.847 MiB