Package: mosbi Version: 1.10.0 Command: _R_CHECK_FORCE_SUGGESTS_=0 /Library/Frameworks/R.framework/Resources/bin/R CMD check --install=check:mosbi.install-out.txt --library=/Library/Frameworks/R.framework/Resources/library --no-vignettes --timings mosbi_1.10.0.tar.gz StartedAt: 2024-10-18 04:43:17 -0400 (Fri, 18 Oct 2024) EndedAt: 2024-10-18 04:44:00 -0400 (Fri, 18 Oct 2024) EllapsedTime: 43.5 seconds RetCode: 0 Status: WARNINGS CheckDir: mosbi.Rcheck Warnings: 1