Package: mosaics Version: 2.42.0 Command: rm -rf mosaics.buildbin-libdir && mkdir mosaics.buildbin-libdir && E:\biocbuild\bbs-3.19-bioc\R\bin\R.exe CMD INSTALL --build --library=mosaics.buildbin-libdir mosaics_2.42.0.tar.gz StartedAt: 2024-10-17 08:10:37 -0400 (Thu, 17 Oct 2024) EndedAt: 2024-10-17 08:12:45 -0400 (Thu, 17 Oct 2024) EllapsedTime: 128.6 seconds RetCode: 0 Status: OK PackageFile: mosaics_2.42.0.zip PackageFileSize: 1.958 MiB