Package: mosaics Version: 2.42.0 Command: /home/biocbuild/bbs-3.19-bioc/R/bin/R CMD build --keep-empty-dirs --no-resave-data mosaics StartedAt: 2024-10-16 19:35:54 -0400 (Wed, 16 Oct 2024) EndedAt: 2024-10-16 19:38:18 -0400 (Wed, 16 Oct 2024) EllapsedTime: 143.3 seconds RetCode: 0 Status: OK PackageFile: mosaics_2.42.0.tar.gz PackageFileSize: 1.842 MiB