Package: mosaics Version: 2.42.0 Command: /Library/Frameworks/R.framework/Resources/bin/R CMD check --install=check:mosaics.install-out.txt --library=/Library/Frameworks/R.framework/Resources/library --no-vignettes --timings mosaics_2.42.0.tar.gz StartedAt: 2024-06-09 21:39:51 -0400 (Sun, 09 Jun 2024) EndedAt: 2024-06-09 21:43:08 -0400 (Sun, 09 Jun 2024) EllapsedTime: 197.4 seconds RetCode: 0 Status: OK CheckDir: mosaics.Rcheck Warnings: 0