Package: mosaics Version: 2.42.0 Command: rm -rf mosaics.buildbin-libdir && mkdir mosaics.buildbin-libdir && /Users/biocbuild/BBS/utils/build-universal.sh mosaics_2.42.0.tar.gz /Library/Frameworks/R.framework/Resources/bin/R mosaics.buildbin-libdir StartedAt: 2024-10-18 19:32:40 -0400 (Fri, 18 Oct 2024) EndedAt: 2024-10-18 19:33:44 -0400 (Fri, 18 Oct 2024) EllapsedTime: 63.8 seconds RetCode: 0 Status: OK PackageFile: mosaics_2.42.0.tgz PackageFileSize: 1.832 MiB