Package: monocle Version: 2.32.0 Command: chmod a+r monocle -R && E:\biocbuild\bbs-3.19-bioc\R\bin\R.exe CMD build --keep-empty-dirs --no-resave-data monocle StartedAt: 2024-10-16 20:26:15 -0400 (Wed, 16 Oct 2024) EndedAt: 2024-10-16 20:27:10 -0400 (Wed, 16 Oct 2024) EllapsedTime: 54.7 seconds RetCode: 0 Status: OK PackageFile: monocle_2.32.0.tar.gz PackageFileSize: 8.939 MiB