Package: monocle Version: 2.32.0 Command: rm -rf monocle.buildbin-libdir && mkdir monocle.buildbin-libdir && /Users/biocbuild/BBS/utils/build-universal.sh monocle_2.32.0.tar.gz /Library/Frameworks/R.framework/Resources/bin/R monocle.buildbin-libdir StartedAt: 2024-10-17 16:38:27 -0400 (Thu, 17 Oct 2024) EndedAt: 2024-10-17 16:39:27 -0400 (Thu, 17 Oct 2024) EllapsedTime: 59.5 seconds RetCode: 0 Status: OK PackageFile: monocle_2.32.0.tgz PackageFileSize: 1.441 MiB