Package: monocle Version: 2.32.0 Command: /home/biocbuild/R/R-beta-2024-04-15_r86425/bin/R CMD build --keep-empty-dirs --no-resave-data monocle StartedAt: 2024-05-09 01:49:26 -0000 (Thu, 09 May 2024) EndedAt: 2024-05-09 01:50:11 -0000 (Thu, 09 May 2024) EllapsedTime: 45.1 seconds RetCode: 0 Status: OK PackageFile: monocle_2.32.0.tar.gz PackageFileSize: 8.983 MiB