Package: monocle Version: 2.32.0 Command: /Library/Frameworks/R.framework/Resources/bin/R CMD build --keep-empty-dirs --no-resave-data monocle StartedAt: 2024-06-10 00:59:52 -0400 (Mon, 10 Jun 2024) EndedAt: 2024-06-10 01:00:37 -0400 (Mon, 10 Jun 2024) EllapsedTime: 44.4 seconds RetCode: 0 Status: OK PackageFile: monocle_2.32.0.tar.gz PackageFileSize: 9.006 MiB