Package: monaLisa Version: 1.10.1 Command: E:\biocbuild\bbs-3.19-bioc\R\bin\R.exe CMD check --no-multiarch --install=check:monaLisa.install-out.txt --library=E:\biocbuild\bbs-3.19-bioc\R\library --no-vignettes --timings monaLisa_1.10.1.tar.gz StartedAt: 2024-10-17 03:33:06 -0400 (Thu, 17 Oct 2024) EndedAt: 2024-10-17 03:39:31 -0400 (Thu, 17 Oct 2024) EllapsedTime: 384.5 seconds RetCode: 0 Status: OK CheckDir: monaLisa.Rcheck Warnings: 0