Package: monaLisa Version: 1.10.1 Command: /home/biocbuild/bbs-3.19-bioc/R/bin/R CMD check --install=check:monaLisa.install-out.txt --library=/home/biocbuild/bbs-3.19-bioc/R/site-library --timings monaLisa_1.10.1.tar.gz StartedAt: 2024-10-17 02:39:43 -0400 (Thu, 17 Oct 2024) EndedAt: 2024-10-17 02:49:30 -0400 (Thu, 17 Oct 2024) EllapsedTime: 587.2 seconds RetCode: 0 Status: OK CheckDir: monaLisa.Rcheck Warnings: 0