Package: monaLisa Version: 1.10.1 Command: /home/biocbuild/bbs-3.19-bioc/R/bin/R CMD build --keep-empty-dirs --no-resave-data monaLisa StartedAt: 2024-10-16 19:35:13 -0400 (Wed, 16 Oct 2024) EndedAt: 2024-10-16 19:39:22 -0400 (Wed, 16 Oct 2024) EllapsedTime: 248.4 seconds RetCode: 0 Status: OK PackageFile: monaLisa_1.10.1.tar.gz PackageFileSize: 4.969 MiB