Package: monaLisa Version: 1.10.1 Command: /Library/Frameworks/R.framework/Resources/bin/R CMD INSTALL monaLisa StartedAt: 2024-10-16 16:26:00 -0400 (Wed, 16 Oct 2024) EndedAt: 2024-10-16 16:27:41 -0400 (Wed, 16 Oct 2024) EllapsedTime: 100.8 seconds RetCode: 0 Status: OK