Package: monaLisa Version: 1.10.0 Command: /home/biocbuild/R/R-beta-2024-04-15_r86425/bin/R CMD check --install=check:monaLisa.install-out.txt --library=/home/biocbuild/R/R-beta-2024-04-15_r86425/site-library --no-vignettes --timings monaLisa_1.10.0.tar.gz StartedAt: 2024-05-09 09:39:00 -0000 (Thu, 09 May 2024) EndedAt: 2024-05-09 09:46:32 -0000 (Thu, 09 May 2024) EllapsedTime: 451.8 seconds RetCode: 0 Status: OK CheckDir: monaLisa.Rcheck Warnings: 0