Package: monaLisa Version: 1.10.1 Command: rm -rf monaLisa.buildbin-libdir && mkdir monaLisa.buildbin-libdir && /Users/biocbuild/BBS/utils/build-universal.sh monaLisa_1.10.1.tar.gz /Library/Frameworks/R.framework/Resources/bin/R monaLisa.buildbin-libdir StartedAt: 2024-10-18 19:32:04 -0400 (Fri, 18 Oct 2024) EndedAt: 2024-10-18 19:33:11 -0400 (Fri, 18 Oct 2024) EllapsedTime: 67.2 seconds RetCode: 0 Status: OK PackageFile: monaLisa_1.10.1.tgz PackageFileSize: 6.269 MiB