Package: mogsa Version: 1.38.0 Command: chmod a+r mogsa -R && E:\biocbuild\bbs-3.19-bioc\R\bin\R.exe CMD build --keep-empty-dirs --no-resave-data mogsa StartedAt: 2024-10-16 20:25:18 -0400 (Wed, 16 Oct 2024) EndedAt: 2024-10-16 20:28:22 -0400 (Wed, 16 Oct 2024) EllapsedTime: 183.4 seconds RetCode: 0 Status: OK PackageFile: mogsa_1.38.0.tar.gz PackageFileSize: 776.1 KiB