Package: mogsa Version: 1.38.0 Command: chmod a+r mogsa -R && F:\biocbuild\bbs-3.19-bioc\R\bin\R.exe CMD build --keep-empty-dirs --no-resave-data mogsa StartedAt: 2024-06-26 20:11:41 -0400 (Wed, 26 Jun 2024) EndedAt: 2024-06-26 20:14:39 -0400 (Wed, 26 Jun 2024) EllapsedTime: 177.9 seconds RetCode: 0 Status: OK PackageFile: mogsa_1.38.0.tar.gz PackageFileSize: 773 KiB