Package: mogsa Version: 1.38.0 Command: rm -rf mogsa.buildbin-libdir && mkdir mogsa.buildbin-libdir && /Users/biocbuild/BBS/utils/build-universal.sh mogsa_1.38.0.tar.gz /Library/Frameworks/R.framework/Resources/bin/R mogsa.buildbin-libdir StartedAt: 2024-10-17 16:38:10 -0400 (Thu, 17 Oct 2024) EndedAt: 2024-10-17 16:39:11 -0400 (Thu, 17 Oct 2024) EllapsedTime: 60.6 seconds RetCode: 0 Status: OK PackageFile: mogsa_1.38.0.tgz PackageFileSize: 1.21 MiB