Package: mogsa Version: 1.38.0 Command: /Library/Frameworks/R.framework/Resources/bin/R CMD build --keep-empty-dirs --no-resave-data mogsa StartedAt: 2024-06-10 00:56:37 -0400 (Mon, 10 Jun 2024) EndedAt: 2024-06-10 00:59:52 -0400 (Mon, 10 Jun 2024) EllapsedTime: 195.7 seconds RetCode: 1 Status: ERROR PackageFile: None PackageFileSize: NA