Package: mogsa Version: 1.38.0 Command: /Library/Frameworks/R.framework/Resources/bin/R CMD build --keep-empty-dirs --no-resave-data mogsa StartedAt: 2024-10-17 04:52:59 -0400 (Thu, 17 Oct 2024) EndedAt: 2024-10-17 04:55:46 -0400 (Thu, 17 Oct 2024) EllapsedTime: 167.8 seconds RetCode: 0 Status: OK PackageFile: mogsa_1.38.0.tar.gz PackageFileSize: 776 KiB