Package: mogsa Version: 1.38.0 Maintainer: Chen Meng MaintainerEmail: mengchen18 at gmail.com git_url: https://git.bioconductor.org/packages/mogsa git_branch: RELEASE_3_19 git_last_commit: f3d45d4 git_last_commit_date: 2024-04-30 10:42:59 -0400 (Tue, 30 Apr 2024)