Package: mobileRNA Version: 1.0.15 Command: rm -rf mobileRNA.buildbin-libdir && mkdir mobileRNA.buildbin-libdir && E:\biocbuild\bbs-3.19-bioc\R\bin\R.exe CMD INSTALL --build --library=mobileRNA.buildbin-libdir mobileRNA_1.0.15.tar.gz StartedAt: 2024-10-17 08:09:58 -0400 (Thu, 17 Oct 2024) EndedAt: 2024-10-17 08:10:47 -0400 (Thu, 17 Oct 2024) EllapsedTime: 49.0 seconds RetCode: 0 Status: OK PackageFile: mobileRNA_1.0.15.zip PackageFileSize: 2.996 MiB