Package: mobileRNA Version: 1.0.11 Command: F:\biocbuild\bbs-3.19-bioc\R\bin\R.exe CMD check --no-multiarch --install=check:mobileRNA.install-out.txt --library=F:\biocbuild\bbs-3.19-bioc\R\library --no-vignettes --timings mobileRNA_1.0.11.tar.gz StartedAt: 2024-06-27 03:45:43 -0400 (Thu, 27 Jun 2024) EndedAt: 2024-06-27 03:51:33 -0400 (Thu, 27 Jun 2024) EllapsedTime: 351.0 seconds RetCode: 0 Status: OK CheckDir: mobileRNA.Rcheck Warnings: 0