Package: mobileRNA Version: 1.0.11 Command: rm -rf mobileRNA.buildbin-libdir && mkdir mobileRNA.buildbin-libdir && F:\biocbuild\bbs-3.19-bioc\R\bin\R.exe CMD INSTALL --build --library=mobileRNA.buildbin-libdir mobileRNA_1.0.11.tar.gz StartedAt: 2024-06-27 08:31:44 -0400 (Thu, 27 Jun 2024) EndedAt: 2024-06-27 08:32:37 -0400 (Thu, 27 Jun 2024) EllapsedTime: 52.7 seconds RetCode: 0 Status: OK PackageFile: mobileRNA_1.0.11.zip PackageFileSize: 2.997 MiB