Package: mobileRNA Version: 1.0.15 Command: rm -rf mobileRNA.buildbin-libdir && mkdir mobileRNA.buildbin-libdir && /Users/biocbuild/BBS/utils/build-universal.sh mobileRNA_1.0.15.tar.gz /Library/Frameworks/R.framework/Resources/bin/R mobileRNA.buildbin-libdir StartedAt: 2024-10-17 16:37:31 -0400 (Thu, 17 Oct 2024) EndedAt: 2024-10-17 16:39:03 -0400 (Thu, 17 Oct 2024) EllapsedTime: 91.9 seconds RetCode: 0 Status: OK PackageFile: mobileRNA_1.0.15.tgz PackageFileSize: 3.364 MiB