Package: mobileRNA Version: 1.0.15 Command: /Library/Frameworks/R.framework/Resources/bin/R CMD INSTALL mobileRNA StartedAt: 2024-10-16 17:42:56 -0400 (Wed, 16 Oct 2024) EndedAt: 2024-10-16 17:43:40 -0400 (Wed, 16 Oct 2024) EllapsedTime: 43.9 seconds RetCode: 0 Status: OK