Package: moanin Version: 1.12.0 Command: E:\biocbuild\bbs-3.19-bioc\R\bin\R.exe CMD INSTALL moanin StartedAt: 2024-10-16 16:28:05 -0400 (Wed, 16 Oct 2024) EndedAt: 2024-10-16 16:28:58 -0400 (Wed, 16 Oct 2024) EllapsedTime: 52.9 seconds RetCode: 0 Status: OK